BEGIN:VCALENDAR
VERSION:2.0
PRODID:-// - ECPv6.15.20//NONSGML v1.0//EN
CALSCALE:GREGORIAN
METHOD:PUBLISH
X-ORIGINAL-URL:https://musikkultur-kassel.de
X-WR-CALDESC:Veranstaltungen für 
REFRESH-INTERVAL;VALUE=DURATION:PT1H
X-Robots-Tag:noindex
X-PUBLISHED-TTL:PT1H
BEGIN:VTIMEZONE
TZID:Europe/Paris
BEGIN:DAYLIGHT
TZOFFSETFROM:+0100
TZOFFSETTO:+0200
TZNAME:CEST
DTSTART:20240331T010000
END:DAYLIGHT
BEGIN:STANDARD
TZOFFSETFROM:+0200
TZOFFSETTO:+0100
TZNAME:CET
DTSTART:20241027T010000
END:STANDARD
BEGIN:DAYLIGHT
TZOFFSETFROM:+0100
TZOFFSETTO:+0200
TZNAME:CEST
DTSTART:20250330T010000
END:DAYLIGHT
BEGIN:STANDARD
TZOFFSETFROM:+0200
TZOFFSETTO:+0100
TZNAME:CET
DTSTART:20251026T010000
END:STANDARD
BEGIN:DAYLIGHT
TZOFFSETFROM:+0100
TZOFFSETTO:+0200
TZNAME:CEST
DTSTART:20260329T010000
END:DAYLIGHT
BEGIN:STANDARD
TZOFFSETFROM:+0200
TZOFFSETTO:+0100
TZNAME:CET
DTSTART:20261025T010000
END:STANDARD
END:VTIMEZONE
BEGIN:VEVENT
DTSTART;TZID=Europe/Paris:20250330T193000
DTEND;TZID=Europe/Paris:20250330T210000
DTSTAMP:20260422T165649
CREATED:20250228T144429Z
LAST-MODIFIED:20250228T144429Z
UID:381-1743363000-1743368400@musikkultur-kassel.de
SUMMARY:Englische Hofmusik
DESCRIPTION:„Englische Hofmusik“ mit Werken von John Dowland\, Henry Purcell\, Georg Friedrich Händel u.a. \nMusiker/innen:\n– Chie Nagai (Sopran)\n– Susanne Schale (Flöte)\n– Boris Tesic
URL:https://musikkultur-kassel.de/veranstaltung/englische-hofmusik/
LOCATION:Kirche der Seligpreisungen\, Lobenhausen-Körle
END:VEVENT
END:VCALENDAR