BEGIN:VCALENDAR
VERSION:2.0
PRODID:-// - ECPv6.15.20//NONSGML v1.0//EN
CALSCALE:GREGORIAN
METHOD:PUBLISH
X-ORIGINAL-URL:https://musikkultur-kassel.de
X-WR-CALDESC:Veranstaltungen für 
REFRESH-INTERVAL;VALUE=DURATION:PT1H
X-Robots-Tag:noindex
X-PUBLISHED-TTL:PT1H
BEGIN:VTIMEZONE
TZID:Europe/Paris
BEGIN:DAYLIGHT
TZOFFSETFROM:+0100
TZOFFSETTO:+0200
TZNAME:CEST
DTSTART:20240331T010000
END:DAYLIGHT
BEGIN:STANDARD
TZOFFSETFROM:+0200
TZOFFSETTO:+0100
TZNAME:CET
DTSTART:20241027T010000
END:STANDARD
BEGIN:DAYLIGHT
TZOFFSETFROM:+0100
TZOFFSETTO:+0200
TZNAME:CEST
DTSTART:20250330T010000
END:DAYLIGHT
BEGIN:STANDARD
TZOFFSETFROM:+0200
TZOFFSETTO:+0100
TZNAME:CET
DTSTART:20251026T010000
END:STANDARD
BEGIN:DAYLIGHT
TZOFFSETFROM:+0100
TZOFFSETTO:+0200
TZNAME:CEST
DTSTART:20260329T010000
END:DAYLIGHT
BEGIN:STANDARD
TZOFFSETFROM:+0200
TZOFFSETTO:+0100
TZNAME:CET
DTSTART:20261025T010000
END:STANDARD
END:VTIMEZONE
BEGIN:VEVENT
DTSTART;TZID=Europe/Paris:20250914T193000
DTEND;TZID=Europe/Paris:20250914T210000
DTSTAMP:20260423T231759
CREATED:20250809T093050Z
LAST-MODIFIED:20250912T072210Z
UID:411-1757878200-1757883600@musikkultur-kassel.de
SUMMARY:Tanzmusik aus verschiedenen Epochen
DESCRIPTION:Werke von J. Strauß\, B. Smetana\, L. Boccherini u.a. \nMitwirkende Musiker/innen: \n\nYana Krasutskaya (Violine)\nRüdiger Spuck (Viola)\nGang Wang (Cello)\nJulia Reingardt (Klavier)
URL:https://musikkultur-kassel.de/veranstaltung/tanzmusik-aus-verschiedenen-epochen/
LOCATION:Kirche der Seligpreisungen\, Lobenhausen-Körle
ATTACH;FMTTYPE=image/jpeg:https://musikkultur-kassel.de/wp-content/uploads/2025/08/IMG-20250825-WA0012-e1757661695226.jpg
END:VEVENT
END:VCALENDAR