BEGIN:VCALENDAR
VERSION:2.0
PRODID:-// - ECPv6.15.20//NONSGML v1.0//EN
CALSCALE:GREGORIAN
METHOD:PUBLISH
X-ORIGINAL-URL:https://musikkultur-kassel.de
X-WR-CALDESC:Veranstaltungen für 
REFRESH-INTERVAL;VALUE=DURATION:PT1H
X-Robots-Tag:noindex
X-PUBLISHED-TTL:PT1H
BEGIN:VTIMEZONE
TZID:Europe/Paris
BEGIN:DAYLIGHT
TZOFFSETFROM:+0100
TZOFFSETTO:+0200
TZNAME:CEST
DTSTART:20250330T010000
END:DAYLIGHT
BEGIN:STANDARD
TZOFFSETFROM:+0200
TZOFFSETTO:+0100
TZNAME:CET
DTSTART:20251026T010000
END:STANDARD
BEGIN:DAYLIGHT
TZOFFSETFROM:+0100
TZOFFSETTO:+0200
TZNAME:CEST
DTSTART:20260329T010000
END:DAYLIGHT
BEGIN:STANDARD
TZOFFSETFROM:+0200
TZOFFSETTO:+0100
TZNAME:CET
DTSTART:20261025T010000
END:STANDARD
BEGIN:DAYLIGHT
TZOFFSETFROM:+0100
TZOFFSETTO:+0200
TZNAME:CEST
DTSTART:20270328T010000
END:DAYLIGHT
BEGIN:STANDARD
TZOFFSETFROM:+0200
TZOFFSETTO:+0100
TZNAME:CET
DTSTART:20271031T010000
END:STANDARD
END:VTIMEZONE
BEGIN:VEVENT
DTSTART;TZID=Europe/Paris:20260308T163000
DTEND;TZID=Europe/Paris:20260308T173000
DTSTAMP:20260421T191811
CREATED:20260216T094003Z
LAST-MODIFIED:20260216T094003Z
UID:437-1772987400-1772991000@musikkultur-kassel.de
SUMMARY:Passionskonzert mit meditativen Texten
DESCRIPTION:Passionskonzert mit meditativen Texten \nStreichquartett von Joseph Haydn:\n„Die sieben letzten Worte unseres Erlösers“ \n– Yana Krasutskaya (Violine)\n– Rüdiger Spuck (Violine)\n– Susy Riminucci (Viola)\n– Gang Wang (Violoncello) \nLiturgie: Thomas Smettan \n  \nEINTRITT FREI
URL:https://musikkultur-kassel.de/veranstaltung/passionskonzert-mit-meditativen-texten/
LOCATION:Kapelle Elisabethkrankenhaus\, Weinbergstraße 7\, Kassel\, 34117
ATTACH;FMTTYPE=image/jpeg:https://musikkultur-kassel.de/wp-content/uploads/2026/02/260308_Passionskonzert-Elisabethkrankenhaus.jpg
END:VEVENT
BEGIN:VEVENT
DTSTART;TZID=Europe/Paris:20260315T103000
DTEND;TZID=Europe/Paris:20260315T120000
DTSTAMP:20260421T191811
CREATED:20260218T095531Z
LAST-MODIFIED:20260218T095531Z
UID:446-1773570600-1773576000@musikkultur-kassel.de
SUMMARY:Konzert im Fritzlarer Dom
DESCRIPTION:– Yana Krasutskaya (Violine)\n– Rüdiger Spuck (Violine)\n– Roman Lazarchuk (Cemballo)\nmit Chor Cantando und Domchor Fritzlar \nmit Kantate von Buxtehude:\n„Alles\, was ihr tut“
URL:https://musikkultur-kassel.de/veranstaltung/konzert-im-fritzlarer-dom/
LOCATION:Dom St. Peter\, Dr. Jestädt-Platz 11\, Fritzlar\, Hessen\, 34560\, Deutschland
END:VEVENT
BEGIN:VEVENT
DTSTART;TZID=Europe/Paris:20260320T193000
DTEND;TZID=Europe/Paris:20260320T193000
DTSTAMP:20260421T191811
CREATED:20260218T100646Z
LAST-MODIFIED:20260218T165107Z
UID:451-1774035000-1774035000@musikkultur-kassel.de
SUMMARY:Literatur und Musik - Thomas Mann und Wagner
DESCRIPTION:Anne Petrossow (Sopran)\nJulia Reingardt (Klavier)\nLektor: Peter Will \nEin Abend im Zeichen der deutschen Romantik und ihrer literarischen Reflexionen: Musik Richard Wagners trifft auf Texte von Thomas Mann. \nLiteratur und Musik beeinflussen einander\, spiegeln gesellschaftliche Strömungen\, persönliche Schicksale und innere Welten. Die Konzertreihe Literatur und Musik im Palais Bellevue lädt dazu ein\, diese besondere Verbindung neu zu entdecken. \nEintritt 20/15\nSchüler frei
URL:https://musikkultur-kassel.de/veranstaltung/literatur-und-musik-thomas-mann-und-wagner/
LOCATION:Palais Bellevue\, Schöne Aussicht 2\, Kassel\, 34117\, Deutschland
ATTACH;FMTTYPE=image/jpeg:https://musikkultur-kassel.de/wp-content/uploads/2026/02/Konzert-6-e1771433436278.jpg
END:VEVENT
END:VCALENDAR