BEGIN:VCALENDAR
VERSION:2.0
PRODID:-// - ECPv6.15.20//NONSGML v1.0//EN
CALSCALE:GREGORIAN
METHOD:PUBLISH
X-ORIGINAL-URL:https://musikkultur-kassel.de
X-WR-CALDESC:Veranstaltungen für 
REFRESH-INTERVAL;VALUE=DURATION:PT1H
X-Robots-Tag:noindex
X-PUBLISHED-TTL:PT1H
BEGIN:VTIMEZONE
TZID:Europe/Paris
BEGIN:DAYLIGHT
TZOFFSETFROM:+0100
TZOFFSETTO:+0200
TZNAME:CEST
DTSTART:20240331T010000
END:DAYLIGHT
BEGIN:STANDARD
TZOFFSETFROM:+0200
TZOFFSETTO:+0100
TZNAME:CET
DTSTART:20241027T010000
END:STANDARD
BEGIN:DAYLIGHT
TZOFFSETFROM:+0100
TZOFFSETTO:+0200
TZNAME:CEST
DTSTART:20250330T010000
END:DAYLIGHT
BEGIN:STANDARD
TZOFFSETFROM:+0200
TZOFFSETTO:+0100
TZNAME:CET
DTSTART:20251026T010000
END:STANDARD
BEGIN:DAYLIGHT
TZOFFSETFROM:+0100
TZOFFSETTO:+0200
TZNAME:CEST
DTSTART:20260329T010000
END:DAYLIGHT
BEGIN:STANDARD
TZOFFSETFROM:+0200
TZOFFSETTO:+0100
TZNAME:CET
DTSTART:20261025T010000
END:STANDARD
END:VTIMEZONE
BEGIN:VEVENT
DTSTART;TZID=Europe/Paris:20250905T190000
DTEND;TZID=Europe/Paris:20250905T203000
DTSTAMP:20260422T044752
CREATED:20250809T092328Z
LAST-MODIFIED:20250809T093131Z
UID:407-1757098800-1757104200@musikkultur-kassel.de
SUMMARY:Alte Musik in der Klosterkirche - Auf verstimmten Geigen
DESCRIPTION:„Auf verstimmten Geigen“ \nMusik aus dem 17. Jahrhundert von Biber\, Schmelzer und Erlebach \nMitwirkende Musiker/innen: \n\nIsabell Schau (Barockvioline)\nLaura Frey (Viola da Gamba und Violone)\nThomas Pieper (Truhenorgel)\n\n  \nEintritt: 15/10* Euro\, Schüler/innen FREI
URL:https://musikkultur-kassel.de/veranstaltung/alte-musik-in-der-klosterkirche-auf-verstimmten-geigen/
LOCATION:Klosterkirche Nordshausen\, Am Klosterhof 9\, Kassel\, Hessen\, 34132
ATTACH;FMTTYPE=image/jpeg:https://musikkultur-kassel.de/wp-content/uploads/2025/08/Klosterkirche-Plakat.jpg
END:VEVENT
BEGIN:VEVENT
DTSTART;TZID=Europe/Paris:20250914T193000
DTEND;TZID=Europe/Paris:20250914T210000
DTSTAMP:20260422T044752
CREATED:20250809T093050Z
LAST-MODIFIED:20250912T072210Z
UID:411-1757878200-1757883600@musikkultur-kassel.de
SUMMARY:Tanzmusik aus verschiedenen Epochen
DESCRIPTION:Werke von J. Strauß\, B. Smetana\, L. Boccherini u.a. \nMitwirkende Musiker/innen: \n\nYana Krasutskaya (Violine)\nRüdiger Spuck (Viola)\nGang Wang (Cello)\nJulia Reingardt (Klavier)
URL:https://musikkultur-kassel.de/veranstaltung/tanzmusik-aus-verschiedenen-epochen/
LOCATION:Kirche der Seligpreisungen\, Lobenhausen-Körle
ATTACH;FMTTYPE=image/jpeg:https://musikkultur-kassel.de/wp-content/uploads/2025/08/IMG-20250825-WA0012-e1757661695226.jpg
END:VEVENT
BEGIN:VEVENT
DTSTART;TZID=Europe/Paris:20250928T170000
DTEND;TZID=Europe/Paris:20250928T190000
DTSTAMP:20260422T044752
CREATED:20250809T093701Z
LAST-MODIFIED:20250912T073000Z
UID:414-1759078800-1759086000@musikkultur-kassel.de
SUMMARY:Felix Mendelssohn Bartholdy und Fanny Hensel - Musikalische Lesung
DESCRIPTION:Musikalische Lesung: \n„Felix Mendelssohn Bartholdy und Fanny Hensel“\nGeschwisterliebe und der Antisemitismus im 19. Jahrhundert \nMitwirkende Musiker/innen: \n\nYana Krasutskaya (Violine)\nGang Wang (Cello)\nShanji Quan (Klavier)\n\n  \nLesung: Christina Weiser und Christoph Steina \nEintritt: 15/10* Euro\, Schüler/innen FREI
URL:https://musikkultur-kassel.de/veranstaltung/felix-mendelssohn-bartholdy-und-fanny-hensel-musikalische-lesung/
LOCATION:Palais Bellevue\, Schöne Aussicht 2\, Kassel\, 34117\, Deutschland
ATTACH;FMTTYPE=image/jpeg:https://musikkultur-kassel.de/wp-content/uploads/2025/08/IMG-20250912-WA0001-e1757662193437.jpg
END:VEVENT
END:VCALENDAR