BEGIN:VCALENDAR
VERSION:2.0
PRODID:-// - ECPv6.15.20//NONSGML v1.0//EN
CALSCALE:GREGORIAN
METHOD:PUBLISH
X-ORIGINAL-URL:https://musikkultur-kassel.de
X-WR-CALDESC:Veranstaltungen für 
REFRESH-INTERVAL;VALUE=DURATION:PT1H
X-Robots-Tag:noindex
X-PUBLISHED-TTL:PT1H
BEGIN:VTIMEZONE
TZID:Europe/Paris
BEGIN:DAYLIGHT
TZOFFSETFROM:+0100
TZOFFSETTO:+0200
TZNAME:CEST
DTSTART:20240331T010000
END:DAYLIGHT
BEGIN:STANDARD
TZOFFSETFROM:+0200
TZOFFSETTO:+0100
TZNAME:CET
DTSTART:20241027T010000
END:STANDARD
BEGIN:DAYLIGHT
TZOFFSETFROM:+0100
TZOFFSETTO:+0200
TZNAME:CEST
DTSTART:20250330T010000
END:DAYLIGHT
BEGIN:STANDARD
TZOFFSETFROM:+0200
TZOFFSETTO:+0100
TZNAME:CET
DTSTART:20251026T010000
END:STANDARD
BEGIN:DAYLIGHT
TZOFFSETFROM:+0100
TZOFFSETTO:+0200
TZNAME:CEST
DTSTART:20260329T010000
END:DAYLIGHT
BEGIN:STANDARD
TZOFFSETFROM:+0200
TZOFFSETTO:+0100
TZNAME:CET
DTSTART:20261025T010000
END:STANDARD
END:VTIMEZONE
BEGIN:VEVENT
DTSTART;TZID=Europe/Paris:20250629T170000
DTEND;TZID=Europe/Paris:20250629T183000
DTSTAMP:20260422T093949
CREATED:20250520T151359Z
LAST-MODIFIED:20250520T151551Z
UID:401-1751216400-1751221800@musikkultur-kassel.de
SUMMARY:Musik und Briefe - Verweile Doch! Du Bist So Schön!
DESCRIPTION:Ein Abend über die Liebe und die Vergänglichkeit. \nThomas Bockelmann liest Gedichte von Berthold Brecht\, J.W. von Goethe\, Friederike Mayröcker u.a. \nBoris Tesic begleitet mit Gitarre mit Werken von John Dowland\, J.S. Bach\, Fernando Sor\, Isaac Albéniz
URL:https://musikkultur-kassel.de/veranstaltung/musik-und-briefe-verweile-doch-du-bist-so-schoen/
LOCATION:Palais Bellevue\, Schöne Aussicht 2\, Kassel\, 34117\, Deutschland
ATTACH;FMTTYPE=image/jpeg:https://musikkultur-kassel.de/wp-content/uploads/2025/05/musik-und-briefe-II.jpg
END:VEVENT
END:VCALENDAR