BEGIN:VCALENDAR
VERSION:2.0
PRODID:-// - ECPv6.15.20//NONSGML v1.0//EN
CALSCALE:GREGORIAN
METHOD:PUBLISH
X-ORIGINAL-URL:https://musikkultur-kassel.de
X-WR-CALDESC:Veranstaltungen für 
REFRESH-INTERVAL;VALUE=DURATION:PT1H
X-Robots-Tag:noindex
X-PUBLISHED-TTL:PT1H
BEGIN:VTIMEZONE
TZID:Europe/Paris
BEGIN:DAYLIGHT
TZOFFSETFROM:+0100
TZOFFSETTO:+0200
TZNAME:CEST
DTSTART:20240331T010000
END:DAYLIGHT
BEGIN:STANDARD
TZOFFSETFROM:+0200
TZOFFSETTO:+0100
TZNAME:CET
DTSTART:20241027T010000
END:STANDARD
BEGIN:DAYLIGHT
TZOFFSETFROM:+0100
TZOFFSETTO:+0200
TZNAME:CEST
DTSTART:20250330T010000
END:DAYLIGHT
BEGIN:STANDARD
TZOFFSETFROM:+0200
TZOFFSETTO:+0100
TZNAME:CET
DTSTART:20251026T010000
END:STANDARD
BEGIN:DAYLIGHT
TZOFFSETFROM:+0100
TZOFFSETTO:+0200
TZNAME:CEST
DTSTART:20260329T010000
END:DAYLIGHT
BEGIN:STANDARD
TZOFFSETFROM:+0200
TZOFFSETTO:+0100
TZNAME:CET
DTSTART:20261025T010000
END:STANDARD
END:VTIMEZONE
BEGIN:VEVENT
DTSTART;TZID=Europe/Paris:20250328T190000
DTEND;TZID=Europe/Paris:20250328T203000
DTSTAMP:20260424T145515
CREATED:20250310T104219Z
LAST-MODIFIED:20250310T104219Z
UID:386-1743188400-1743193800@musikkultur-kassel.de
SUMMARY:Alte Musik in der Klosterkirche
DESCRIPTION:Mit Werken von Biber\, Stradella\, Francoeur u.a. \nMusiker/innen:\n– Yana Krasutskaya (Violine)\n– Julia Reingardt (Klavier/Orgel)\n– Gang Wang (Cello)
URL:https://musikkultur-kassel.de/veranstaltung/alte-musik-in-der-klosterkirche/
LOCATION:Klosterkirche Nordshausen\, Am Klosterhof 9\, Kassel\, Hessen\, 34132
END:VEVENT
END:VCALENDAR