BEGIN:VCALENDAR
VERSION:2.0
PRODID:-// - ECPv6.15.20//NONSGML v1.0//EN
CALSCALE:GREGORIAN
METHOD:PUBLISH
X-ORIGINAL-URL:https://musikkultur-kassel.de
X-WR-CALDESC:Veranstaltungen für 
REFRESH-INTERVAL;VALUE=DURATION:PT1H
X-Robots-Tag:noindex
X-PUBLISHED-TTL:PT1H
BEGIN:VTIMEZONE
TZID:Europe/Paris
BEGIN:DAYLIGHT
TZOFFSETFROM:+0100
TZOFFSETTO:+0200
TZNAME:CEST
DTSTART:20240331T010000
END:DAYLIGHT
BEGIN:STANDARD
TZOFFSETFROM:+0200
TZOFFSETTO:+0100
TZNAME:CET
DTSTART:20241027T010000
END:STANDARD
BEGIN:DAYLIGHT
TZOFFSETFROM:+0100
TZOFFSETTO:+0200
TZNAME:CEST
DTSTART:20250330T010000
END:DAYLIGHT
BEGIN:STANDARD
TZOFFSETFROM:+0200
TZOFFSETTO:+0100
TZNAME:CET
DTSTART:20251026T010000
END:STANDARD
BEGIN:DAYLIGHT
TZOFFSETFROM:+0100
TZOFFSETTO:+0200
TZNAME:CEST
DTSTART:20260329T010000
END:DAYLIGHT
BEGIN:STANDARD
TZOFFSETFROM:+0200
TZOFFSETTO:+0100
TZNAME:CET
DTSTART:20261025T010000
END:STANDARD
END:VTIMEZONE
BEGIN:VEVENT
DTSTART;TZID=Europe/Paris:20250223T170000
DTEND;TZID=Europe/Paris:20250223T190000
DTSTAMP:20260424T161416
CREATED:20241225T204104Z
LAST-MODIFIED:20250210T091055Z
UID:262-1740330000-1740337200@musikkultur-kassel.de
SUMMARY:Musik und Briefe - Schuhmanns und Brahms
DESCRIPTION:„Musik und Briefe“ – Eine Reihe mit Werken und Briefe berühmter Komponisten \nYana Krasutskaya (Violine)\nGang Wang (Cello)\nJulia Reingardt (Klavier) \nLektor: Thomas Bockelmann und Christina Weiser
URL:https://musikkultur-kassel.de/veranstaltung/musik-und-lyrik-i/
LOCATION:Palais Bellevue\, Schöne Aussicht 2\, Kassel\, 34117\, Deutschland
ATTACH;FMTTYPE=image/jpeg:https://musikkultur-kassel.de/wp-content/uploads/2024/12/2025-Musik-und-Lyrik-I-Februar.jpg
END:VEVENT
END:VCALENDAR